{
 "currentVersion": 11.5,
 "serviceDescription": "kolmeD/DTM_MML_2020_21_gk25",
 "serviceItemId": "b71fea7cd26840d7957c9c418becc103",
 "name": "kolmeD/DTM_MML_2020_21_gk25",
 "description": "",
 "extent": {
  "xmin": 2.545746736110145E7,
  "ymin": 6641695.068010566,
  "xmax": 2.548753736110145E7,
  "ymax": 6688135.068010566,
  "spatialReference": {
   "wkid": 3879,
   "latestWkid": 3879
  }
 },
 "initialExtent": {
  "xmin": 2.545746736110145E7,
  "ymin": 6641695.068010566,
  "xmax": 2.548753736110145E7,
  "ymax": 6688135.068010566,
  "spatialReference": {
   "wkid": 3879,
   "latestWkid": 3879
  }
 },
 "fullExtent": {
  "xmin": 2.545746736110145E7,
  "ymin": 6641695.068010566,
  "xmax": 2.548753736110145E7,
  "ymax": 6688135.068010566,
  "spatialReference": {
   "wkid": 3879,
   "latestWkid": 3879
  }
 },
 "sortableFields": "",
 "bandCount": 1,
 "pixelType": "F32",
 "minValues": [
  -5.580589294433594
 ],
 "maxValues": [
  106.85713195800781
 ],
 "meanValues": [
  16.912173246907184
 ],
 "stdvValues": [
  21.97160718551516
 ],
 "serviceProperties": "Center<\/MosaicMethod>First<\/MosaicOperator>true<\/SortAscending><\/LockImageID><\/TileOrderField>0<\/TileOrderBase>0,000000<\/AvgImageSpacingX>0,000000<\/AvgImageSpacingY>0.0<\/ViewPointX>0.0<\/ViewPointY>0.0<\/ViewPointDefShiftX>0.0<\/ViewPointDefShiftY>None<\/CompressionMethod>75<\/CompressionQuality>0,100000<\/CompressionTolerance>Bilinear<\/SamplingMethod><\/ImageServiceProperties><\/ImageServer>",
 "allowedFields": "",
 "hasMultidimensions": false,
 "pixelSizeX": 10,
 "pixelSizeY": 10,
 "meanPixelSize": 10,
 "datasetFormat": "FGDBR",
 "uncompressedSize": 55858032,
 "blockWidth": 128,
 "blockHeight": 128,
 "compressionType": "LZ77",
 "bandNames": [
  "Band_1"
 ],
 "allowCopy": true,
 "allowAnalysis": true,
 "itemAccess": false,
 "inspectionCapabilities": "",
 "minPixelSize": 0.03125,
 "maxPixelSize": 8192,
 "copyrightText": "",
 "serviceDataType": "esriImageServiceDataTypeGeneric",
 "serviceSourceType": "esriImageServiceSourceTypeDataset",
 "objectIdField": "",
 "fields": [],
 "capabilities": "Image,Metadata,Mensuration",
 "defaultMosaicMethod": "Center",
 "allowedMosaicMethods": "",
 "sortField": "",
 "sortValue": null,
 "sortAscending": true,
 "mosaicOperator": "First",
 "defaultCompressionQuality": 75,
 "defaultResamplingMethod": "Bilinear",
 "maxImageHeight": 4100,
 "maxImageWidth": 15000,
 "singleFusedMapCache": true,
 "tileInfo": {
  "rows": 256,
  "cols": 256,
  "dpi": 96,
  "format": "LERC",
  "compressionQuality": 0,
  "lercError": 0.05,
  "origin": {
   "x": 24451424,
   "y": 8388608
  },
  "spatialReference": {
   "wkid": 3879,
   "latestWkid": 3879
  },
  "lods": [
   {
    "level": 0,
    "resolution": 8192,
    "scale": 3.096182784E7
   },
   {
    "level": 1,
    "resolution": 4096,
    "scale": 1.548091392E7
   },
   {
    "level": 2,
    "resolution": 2048,
    "scale": 7740456.96
   },
   {
    "level": 3,
    "resolution": 1024,
    "scale": 3870228.48
   },
   {
    "level": 4,
    "resolution": 512,
    "scale": 1935114.24
   },
   {
    "level": 5,
    "resolution": 256,
    "scale": 967557.12
   },
   {
    "level": 6,
    "resolution": 128,
    "scale": 483778.56
   },
   {
    "level": 7,
    "resolution": 64,
    "scale": 241889.28
   },
   {
    "level": 8,
    "resolution": 32,
    "scale": 120944.64
   },
   {
    "level": 9,
    "resolution": 16,
    "scale": 60472.32
   },
   {
    "level": 10,
    "resolution": 8,
    "scale": 30236.16
   },
   {
    "level": 11,
    "resolution": 4,
    "scale": 15118.08
   },
   {
    "level": 12,
    "resolution": 2,
    "scale": 7559.04
   },
   {
    "level": 13,
    "resolution": 1,
    "scale": 3779.52
   },
   {
    "level": 14,
    "resolution": 0.5,
    "scale": 1889.76
   },
   {
    "level": 15,
    "resolution": 0.25,
    "scale": 944.88
   },
   {
    "level": 16,
    "resolution": 0.125,
    "scale": 472.44
   },
   {
    "level": 17,
    "resolution": 0.0625,
    "scale": 236.22
   },
   {
    "level": 18,
    "resolution": 0.03125,
    "scale": 118.11
   }
  ]
 },
 "storageInfo": {
  "storageFormat": "esriMapCacheStorageModeCompactV2",
  "packetSize": 128
 },
 "cacheType": "Elevation",
 "allowRasterFunction": true,
 "rasterFunctionInfos": [
  {
   "name": "None",
   "description": "",
   "help": ""
  }
 ],
 "rasterTypeInfos": [
  {
   "name": "Raster Dataset",
   "description": "Supports all ArcGIS Raster Datasets",
   "help": ""
  }
 ],
 "mensurationCapabilities": "Basic",
 "hasHistograms": true,
 "hasColormap": false,
 "hasRasterAttributeTable": false,
 "minScale": 3.096182784E7,
 "maxScale": 118.11,
 "minLOD": 0,
 "maxLOD": 18,
 "exportTilesAllowed": false,
 "supportsStatistics": false,
 "supportsAdvancedQueries": false,
 "editFieldsInfo": null,
 "ownershipBasedAccessControlForRasters": null,
 "allowComputeTiePoints": false,
 "useStandardizedQueries": true,
 "advancedQueryCapabilities": {
  "useStandardizedQueries": true,
  "supportsStatistics": false,
  "supportsOrderBy": false,
  "supportsDistinct": false,
  "supportsPagination": false
 },
 "spatialReference": {
  "wkid": 3879,
  "latestWkid": 3879
 }
}
