{ "currentVersion": 11.5, "cimVersion": "3.5.0", "serviceDescription": "
Kirkkonummen opaskartta harm<\/span>a<\/span>ansävyissä 09/2024. Aineisto jatkuvassa ylläpidossa.<\/span><\/p> <\/p><\/div>",
"mapName": "Julkaisu_harmaasävy",
"description": "Kirkkonummen opaskartta harmaansävyissä 09/2024. Aineisto jatkuvassa ylläpidossa.",
"copyrightText": "Kirkkonummen kunta",
"supportsDynamicLayers": true,
"layers": [
{
"id": 0,
"name": "Tekstit",
"parentLayerId": -1,
"defaultVisibility": true,
"subLayerIds": [
1,
8,
13,
26,
37
],
"minScale": 0,
"maxScale": 0,
"type": "Group Layer",
"supportsDynamicLegends": false
},
{
"id": 1,
"name": "Tienumerot",
"parentLayerId": 0,
"defaultVisibility": true,
"subLayerIds": [
2,
3,
4,
5,
6,
7
],
"minScale": 0,
"maxScale": 0,
"type": "Annotation Layer",
"geometryType": "esriGeometryPolygon",
"supportsDynamicLegends": false
},
{
"id": 2,
"name": "01_Tie_nro_yhdystie1",
"parentLayerId": 1,
"defaultVisibility": true,
"subLayerIds": null,
"minScale": 0,
"maxScale": 0,
"supportsDynamicLegends": false
},
{
"id": 3,
"name": "02_Tie_nro_seututie",
"parentLayerId": 1,
"defaultVisibility": true,
"subLayerIds": null,
"minScale": 0,
"maxScale": 0,
"supportsDynamicLegends": false
},
{
"id": 4,
"name": "03_Tie_nro_valtatie",
"parentLayerId": 1,
"defaultVisibility": true,
"subLayerIds": null,
"minScale": 0,
"maxScale": 0,
"supportsDynamicLegends": false
},
{
"id": 5,
"name": "04_Tie_nro_moottoritie",
"parentLayerId": 1,
"defaultVisibility": true,
"subLayerIds": null,
"minScale": 0,
"maxScale": 0,
"supportsDynamicLegends": false
},
{
"id": 6,
"name": "05_Tie_nro_kantatie",
"parentLayerId": 1,
"defaultVisibility": true,
"subLayerIds": null,
"minScale": 0,
"maxScale": 0,
"supportsDynamicLegends": false
},
{
"id": 7,
"name": "06_Tie_nro_yhdystie2",
"parentLayerId": 1,
"defaultVisibility": true,
"subLayerIds": null,
"minScale": 0,
"maxScale": 0,
"supportsDynamicLegends": false
},
{
"id": 8,
"name": "Nimistö",
"parentLayerId": 0,
"defaultVisibility": true,
"subLayerIds": [
9,
10,
11,
12
],
"minScale": 0,
"maxScale": 0,
"type": "Annotation Layer",
"geometryType": "esriGeometryPolygon",
"supportsDynamicLegends": false
},
{
"id": 9,
"name": "01_rakennukset",
"parentLayerId": 8,
"defaultVisibility": true,
"subLayerIds": null,
"minScale": 0,
"maxScale": 0,
"supportsDynamicLegends": false
},
{
"id": 10,
"name": "02_nimisto_suuri",
"parentLayerId": 8,
"defaultVisibility": true,
"subLayerIds": null,
"minScale": 0,
"maxScale": 0,
"supportsDynamicLegends": false
},
{
"id": 11,
"name": "04_luonnonsuojelualue",
"parentLayerId": 8,
"defaultVisibility": true,
"subLayerIds": null,
"minScale": 0,
"maxScale": 0,
"supportsDynamicLegends": false
},
{
"id": 12,
"name": "03_nimisto_pieni",
"parentLayerId": 8,
"defaultVisibility": true,
"subLayerIds": null,
"minScale": 0,
"maxScale": 0,
"supportsDynamicLegends": false
},
{
"id": 13,
"name": "Paikannimet",
"parentLayerId": 0,
"defaultVisibility": true,
"subLayerIds": [
14,
15,
16,
17,
18,
19,
20,
21,
22,
23,
24,
25
],
"minScale": 0,
"maxScale": 0,
"type": "Annotation Layer",
"geometryType": "esriGeometryPolygon",
"supportsDynamicLegends": false
},
{
"id": 14,
"name": "01_paikan_nimi_pieni",
"parentLayerId": 13,
"defaultVisibility": true,
"subLayerIds": null,
"minScale": 0,
"maxScale": 0,
"supportsDynamicLegends": false
},
{
"id": 15,
"name": "02_paikan_nimi_keskikoko",
"parentLayerId": 13,
"defaultVisibility": true,
"subLayerIds": null,
"minScale": 0,
"maxScale": 0,
"supportsDynamicLegends": false
},
{
"id": 16,
"name": "03_paikan_nimi_suuri",
"parentLayerId": 13,
"defaultVisibility": true,
"subLayerIds": null,
"minScale": 0,
"maxScale": 0,
"supportsDynamicLegends": false
},
{
"id": 17,
"name": "05_kaupunginosa",
"parentLayerId": 13,
"defaultVisibility": true,
"subLayerIds": null,
"minScale": 0,
"maxScale": 0,
"supportsDynamicLegends": false
},
{
"id": 18,
"name": "06_kunnan_nimi",
"parentLayerId": 13,
"defaultVisibility": true,
"subLayerIds": null,
"minScale": 0,
"maxScale": 0,
"supportsDynamicLegends": false
},
{
"id": 19,
"name": "11_maastonimi_suuri",
"parentLayerId": 13,
"defaultVisibility": true,
"subLayerIds": null,
"minScale": 0,
"maxScale": 0,
"supportsDynamicLegends": false
},
{
"id": 20,
"name": "12_maastonimi_keski",
"parentLayerId": 13,
"defaultVisibility": true,
"subLayerIds": null,
"minScale": 0,
"maxScale": 0,
"supportsDynamicLegends": false
},
{
"id": 21,
"name": "13_maastonimi_pieni",
"parentLayerId": 13,
"defaultVisibility": true,
"subLayerIds": null,
"minScale": 0,
"maxScale": 0,
"supportsDynamicLegends": false
},
{
"id": 22,
"name": "21_vesistonimi_suuri",
"parentLayerId": 13,
"defaultVisibility": true,
"subLayerIds": null,
"minScale": 0,
"maxScale": 0,
"supportsDynamicLegends": false
},
{
"id": 23,
"name": "22_vesistonimi_keskisuuri",
"parentLayerId": 13,
"defaultVisibility": true,
"subLayerIds": null,
"minScale": 0,
"maxScale": 0,
"supportsDynamicLegends": false
},
{
"id": 24,
"name": "23_vesitonimi_keskipieni",
"parentLayerId": 13,
"defaultVisibility": true,
"subLayerIds": null,
"minScale": 0,
"maxScale": 0,
"supportsDynamicLegends": false
},
{
"id": 25,
"name": "24_vesistonimi_pieni",
"parentLayerId": 13,
"defaultVisibility": true,
"subLayerIds": null,
"minScale": 0,
"maxScale": 0,
"supportsDynamicLegends": false
},
{
"id": 26,
"name": "Tienimistö",
"parentLayerId": 0,
"defaultVisibility": true,
"subLayerIds": [
27,
28,
29,
30,
31,
32,
33,
34,
35,
36
],
"minScale": 0,
"maxScale": 0,
"type": "Annotation Layer",
"geometryType": "esriGeometryPolygon",
"supportsDynamicLegends": false
},
{
"id": 27,
"name": "05_Moottoritie",
"parentLayerId": 26,
"defaultVisibility": true,
"subLayerIds": null,
"minScale": 40000,
"maxScale": 0,
"supportsDynamicLegends": false
},
{
"id": 28,
"name": "05_Moottoritie_r",
"parentLayerId": 26,
"defaultVisibility": true,
"subLayerIds": null,
"minScale": 40000,
"maxScale": 0,
"supportsDynamicLegends": false
},
{
"id": 29,
"name": "04_Katu_suuri",
"parentLayerId": 26,
"defaultVisibility": true,
"subLayerIds": null,
"minScale": 40000,
"maxScale": 0,
"supportsDynamicLegends": false
},
{
"id": 30,
"name": "04_Katu_suuri_r",
"parentLayerId": 26,
"defaultVisibility": true,
"subLayerIds": null,
"minScale": 40000,
"maxScale": 0,
"supportsDynamicLegends": false
},
{
"id": 31,
"name": "03_Katu",
"parentLayerId": 26,
"defaultVisibility": true,
"subLayerIds": null,
"minScale": 30000,
"maxScale": 0,
"supportsDynamicLegends": false
},
{
"id": 32,
"name": "03_Katu_r",
"parentLayerId": 26,
"defaultVisibility": true,
"subLayerIds": null,
"minScale": 30000,
"maxScale": 0,
"supportsDynamicLegends": false
},
{
"id": 33,
"name": "02_Katu_pieni",
"parentLayerId": 26,
"defaultVisibility": true,
"subLayerIds": null,
"minScale": 25000,
"maxScale": 0,
"supportsDynamicLegends": false
},
{
"id": 34,
"name": "02_Katu_pieni_r",
"parentLayerId": 26,
"defaultVisibility": true,
"subLayerIds": null,
"minScale": 25000,
"maxScale": 0,
"supportsDynamicLegends": false
},
{
"id": 35,
"name": "01_Polku",
"parentLayerId": 26,
"defaultVisibility": true,
"subLayerIds": null,
"minScale": 25000,
"maxScale": 0,
"supportsDynamicLegends": false
},
{
"id": 36,
"name": "01_Polku_r",
"parentLayerId": 26,
"defaultVisibility": true,
"subLayerIds": null,
"minScale": 25000,
"maxScale": 0,
"supportsDynamicLegends": false
},
{
"id": 37,
"name": "Osoitenumerot",
"parentLayerId": 0,
"defaultVisibility": true,
"subLayerIds": [
38
],
"minScale": 0,
"maxScale": 0,
"type": "Annotation Layer",
"geometryType": "esriGeometryPolygon",
"supportsDynamicLegends": false
},
{
"id": 38,
"name": "Default",
"parentLayerId": 37,
"defaultVisibility": true,
"subLayerIds": null,
"minScale": 0,
"maxScale": 0,
"supportsDynamicLegends": false
},
{
"id": 39,
"name": "Kuntaraja",
"parentLayerId": -1,
"defaultVisibility": true,
"subLayerIds": null,
"minScale": 0,
"maxScale": 0,
"type": "Feature Layer",
"geometryType": "esriGeometryPolyline",
"supportsDynamicLegends": true
},
{
"id": 40,
"name": "Juna-asemat",
"parentLayerId": -1,
"defaultVisibility": true,
"subLayerIds": null,
"minScale": 0,
"maxScale": 0,
"type": "Feature Layer",
"geometryType": "esriGeometryPolygon",
"supportsDynamicLegends": true
},
{
"id": 41,
"name": "Symbolit",
"parentLayerId": -1,
"defaultVisibility": true,
"subLayerIds": null,
"minScale": 0,
"maxScale": 0,
"type": "Feature Layer",
"geometryType": "esriGeometryPoint",
"supportsDynamicLegends": true
},
{
"id": 42,
"name": "Rakenteet",
"parentLayerId": -1,
"defaultVisibility": true,
"subLayerIds": null,
"minScale": 0,
"maxScale": 0,
"type": "Feature Layer",
"geometryType": "esriGeometryPolyline",
"supportsDynamicLegends": true
},
{
"id": 43,
"name": "Sähkölinjat",
"parentLayerId": -1,
"defaultVisibility": true,
"subLayerIds": null,
"minScale": 0,
"maxScale": 0,
"type": "Feature Layer",
"geometryType": "esriGeometryPolyline",
"supportsDynamicLegends": true
},
{
"id": 44,
"name": "Kuninkaantie",
"parentLayerId": -1,
"defaultVisibility": true,
"subLayerIds": null,
"minScale": 0,
"maxScale": 0,
"type": "Feature Layer",
"geometryType": "esriGeometryPolyline",
"supportsDynamicLegends": true
},
{
"id": 45,
"name": "Kiertoliittymät",
"parentLayerId": -1,
"defaultVisibility": true,
"subLayerIds": null,
"minScale": 0,
"maxScale": 0,
"type": "Feature Layer",
"geometryType": "esriGeometryPolygon",
"supportsDynamicLegends": true
},
{
"id": 46,
"name": "Rakennukset",
"parentLayerId": -1,
"defaultVisibility": true,
"subLayerIds": null,
"minScale": 0,
"maxScale": 0,
"type": "Feature Layer",
"geometryType": "esriGeometryPolygon",
"supportsDynamicLegends": true
},
{
"id": 47,
"name": "Tiestö",
"parentLayerId": -1,
"defaultVisibility": true,
"subLayerIds": null,
"minScale": 0,
"maxScale": 0,
"type": "Feature Layer",
"geometryType": "esriGeometryPolyline",
"supportsDynamicLegends": true
},
{
"id": 48,
"name": "Ojat",
"parentLayerId": -1,
"defaultVisibility": true,
"subLayerIds": null,
"minScale": 0,
"maxScale": 0,
"type": "Feature Layer",
"geometryType": "esriGeometryPolyline",
"supportsDynamicLegends": true
},
{
"id": 49,
"name": "Maankäyttö",
"parentLayerId": -1,
"defaultVisibility": true,
"subLayerIds": null,
"minScale": 0,
"maxScale": 0,
"type": "Feature Layer",
"geometryType": "esriGeometryPolygon",
"supportsDynamicLegends": true
},
{
"id": 50,
"name": "Tausta",
"parentLayerId": -1,
"defaultVisibility": true,
"subLayerIds": null,
"minScale": 0,
"maxScale": 0,
"type": "Feature Layer",
"geometryType": "esriGeometryPolygon",
"supportsDynamicLegends": true
}
],
"tables": [],
"spatialReference": {
"wkid": 3879,
"latestWkid": 3879,
"xyTolerance": 0.001,
"zTolerance": 0.001,
"mTolerance": 0.001,
"falseX": 19876800,
"falseY": -10002100,
"xyUnits": 10000,
"falseZ": -100000,
"zUnits": 10000,
"falseM": -100000,
"mUnits": 10000
},
"singleFusedMapCache": true,
"tileInfo": {
"rows": 256,
"cols": 256,
"dpi": 96,
"format": "MIXED",
"compressionQuality": 75,
"origin": {
"x": 24451424,
"y": 8388608
},
"spatialReference": {
"wkid": 3879,
"latestWkid": 3879,
"xyTolerance": 0.001,
"zTolerance": 0.001,
"mTolerance": 0.001,
"falseX": 19876800,
"falseY": -10002100,
"xyUnits": 10000,
"falseZ": -100000,
"zUnits": 10000,
"falseM": -100000,
"mUnits": 10000
},
"lods": [
{
"level": 0,
"resolution": 8192,
"scale": 3.096182784E7
},
{
"level": 1,
"resolution": 4096,
"scale": 1.548091392E7
},
{
"level": 2,
"resolution": 2048,
"scale": 7740456.96
},
{
"level": 3,
"resolution": 1024,
"scale": 3870228.48
},
{
"level": 4,
"resolution": 512,
"scale": 1935114.24
},
{
"level": 5,
"resolution": 256,
"scale": 967557.12
},
{
"level": 6,
"resolution": 128,
"scale": 483778.56
},
{
"level": 7,
"resolution": 64,
"scale": 241889.28
},
{
"level": 8,
"resolution": 32,
"scale": 120944.64
},
{
"level": 9,
"resolution": 16,
"scale": 60472.32
},
{
"level": 10,
"resolution": 8,
"scale": 30236.16
},
{
"level": 11,
"resolution": 4,
"scale": 15118.08
},
{
"level": 12,
"resolution": 2,
"scale": 7559.04
},
{
"level": 13,
"resolution": 1,
"scale": 3779.52
},
{
"level": 14,
"resolution": 0.5,
"scale": 1889.76
},
{
"level": 15,
"resolution": 0.25,
"scale": 944.88
},
{
"level": 16,
"resolution": 0.125,
"scale": 472.44
}
]
},
"storageInfo": {
"storageFormat": "esriMapCacheStorageModeCompactV2",
"packetSize": 128
},
"initialExtent": {
"xmin": 2.5439839227518864E7,
"ymin": 6627012.5763436295,
"xmax": 2.5505839991191246E7,
"ymax": 6693647.962743629,
"spatialReference": {
"wkid": 3879,
"latestWkid": 3879,
"xyTolerance": 0.001,
"zTolerance": 0.001,
"mTolerance": 0.001,
"falseX": 19876800,
"falseY": -10002100,
"xyUnits": 10000,
"falseZ": -100000,
"zUnits": 10000,
"falseM": -100000,
"mUnits": 10000
}
},
"fullExtent": {
"xmin": 2.5454709204099998E7,
"ymin": 6630000.0034,
"xmax": 2.5490945898000002E7,
"ymax": 6690577.6274,
"zmin": 0,
"zmax": 0,
"spatialReference": {
"wkid": 3879,
"latestWkid": 3879,
"xyTolerance": 0.001,
"zTolerance": 0.001,
"mTolerance": 0.001,
"falseX": 19876800,
"falseY": -10002100,
"xyUnits": 10000,
"falseZ": -100000,
"zUnits": 10000,
"falseM": -100000,
"mUnits": 10000
}
},
"datesInUnknownTimezone": false,
"minScale": 483778.56,
"maxScale": 944.88,
"minLOD": 6,
"maxLOD": 15,
"units": "esriMeters",
"supportedImageFormatTypes": "PNG32,PNG24,PNG,JPG,DIB,TIFF,EMF,PS,PDF,GIF,SVG,SVGZ,BMP",
"documentInfo": {
"Title": "Julkaisu_harmaasävy",
"Author": "",
"Comments": "",
"Subject": "",
"Category": "",
"Version": "3.3.0",
"AntialiasingMode": "Fast",
"TextAntialiasingMode": "Force",
"Keywords": "kirkkonummi,opaskartta"
},
"supportsQueryDomains": true,
"capabilities": "Map,Query,Data,TileMap",
"supportedQueryFormats": "JSON, geoJSON, PBF",
"exportTilesAllowed": false,
"referenceScale": 10000.0,
"datumTransformations": [
{
"geoTransforms": [
{
"wkid": 1149,
"latestWkid": 1149,
"transformForward": false,
"name": "ETRS_1989_To_WGS_1984"
}
]
},
{
"geoTransforms": [
{
"wkid": 1149,
"latestWkid": 1149,
"transformForward": true,
"name": "ETRS_1989_To_WGS_1984"
}
]
}
],
"supportsDatumTransformation": true,
"archivingInfo": {"supportsHistoricMoment": false},
"supportsClipping": true,
"supportsSpatialFilter": true,
"supportsTimeRelation": true,
"supportsQueryDataElements": true,
"mapUnits": {"uwkid": 9001},
"maxSelectionCount": 2000,
"maxRecordCount": 200000,
"maxImageHeight": 4096,
"maxImageWidth": 4096,
"supportedExtensions": "WMSServer",
"resampling": false,
"serviceItemId": "b7e43b6900c1491a87a7e0e9a28f90e5"
}