{
 "currentVersion": 11.5,
 "cimVersion": "3.5.0",
 "serviceDescription": "",
 "mapName": "Historia_aineisto",
 "description": "",
 "copyrightText": "",
 "supportsDynamicLayers": true,
 "layers": [
  {
   "id": 8,
   "name": "Ilmakuva 1983",
   "parentLayerId": -1,
   "defaultVisibility": true,
   "subLayerIds": null,
   "minScale": 0,
   "maxScale": 0,
   "type": "Raster Layer",
   "supportsDynamicLegends": true
  }
 ],
 "tables": [],
 "spatialReference": {
  "wkid": 3879,
  "latestWkid": 3879,
  "xyTolerance": 0.001,
  "zTolerance": 0.001,
  "mTolerance": 0.001,
  "falseX": 19876800,
  "falseY": -10002100,
  "xyUnits": 10000,
  "falseZ": -100000,
  "zUnits": 10000,
  "falseM": -100000,
  "mUnits": 10000
 },
 "singleFusedMapCache": true,
 "tileInfo": {
  "rows": 256,
  "cols": 256,
  "dpi": 96,
  "format": "MIXED",
  "compressionQuality": 75,
  "origin": {
   "x": 24451424,
   "y": 8388608
  },
  "spatialReference": {
   "wkid": 3879,
   "latestWkid": 3879,
   "xyTolerance": 0.001,
   "zTolerance": 0.001,
   "mTolerance": 0.001,
   "falseX": 19876800,
   "falseY": -10002100,
   "xyUnits": 10000,
   "falseZ": -100000,
   "zUnits": 10000,
   "falseM": -100000,
   "mUnits": 10000
  },
  "lods": [
   {
    "level": 0,
    "resolution": 8192,
    "scale": 3.096182784E7
   },
   {
    "level": 1,
    "resolution": 4096,
    "scale": 1.548091392E7
   },
   {
    "level": 2,
    "resolution": 2048,
    "scale": 7740456.96
   },
   {
    "level": 3,
    "resolution": 1024,
    "scale": 3870228.48
   },
   {
    "level": 4,
    "resolution": 512,
    "scale": 1935114.24
   },
   {
    "level": 5,
    "resolution": 256,
    "scale": 967557.12
   },
   {
    "level": 6,
    "resolution": 128,
    "scale": 483778.56
   },
   {
    "level": 7,
    "resolution": 64,
    "scale": 241889.28
   },
   {
    "level": 8,
    "resolution": 32,
    "scale": 120944.64
   },
   {
    "level": 9,
    "resolution": 16,
    "scale": 60472.32
   },
   {
    "level": 10,
    "resolution": 8,
    "scale": 30236.16
   },
   {
    "level": 11,
    "resolution": 4,
    "scale": 15118.08
   },
   {
    "level": 12,
    "resolution": 2,
    "scale": 7559.04
   },
   {
    "level": 13,
    "resolution": 1,
    "scale": 3779.52
   },
   {
    "level": 14,
    "resolution": 0.5,
    "scale": 1889.76
   },
   {
    "level": 15,
    "resolution": 0.25,
    "scale": 944.88
   },
   {
    "level": 16,
    "resolution": 0.125,
    "scale": 472.44
   }
  ]
 },
 "storageInfo": {
  "storageFormat": "esriMapCacheStorageModeCompactV2",
  "packetSize": 128
 },
 "initialExtent": {
  "xmin": 2.543733151769365E7,
  "ymin": 6640555.5730154365,
  "xmax": 2.5503783026747975E7,
  "ymax": 6703288.772210607,
  "spatialReference": {
   "wkid": 3879,
   "latestWkid": 3879,
   "xyTolerance": 0.001,
   "zTolerance": 0.001,
   "mTolerance": 0.001,
   "falseX": 19876800,
   "falseY": -10002100,
   "xyUnits": 10000,
   "falseZ": -100000,
   "zUnits": 10000,
   "falseM": -100000,
   "mUnits": 10000
  }
 },
 "fullExtent": {
  "xmin": 25458820,
  "ymin": 6647221.999999999,
  "xmax": 25482270,
  "ymax": 6689999.999999999,
  "spatialReference": {
   "wkid": 3879,
   "latestWkid": 3879,
   "xyTolerance": 0.001,
   "zTolerance": 0.001,
   "mTolerance": 0.001,
   "falseX": 19876800,
   "falseY": -10002100,
   "xyUnits": 10000,
   "falseZ": -100000,
   "zUnits": 10000,
   "falseM": -100000,
   "mUnits": 10000
  }
 },
 "datesInUnknownTimezone": false,
 "minScale": 483778.56,
 "maxScale": 944.88,
 "minLOD": 6,
 "maxLOD": 15,
 "units": "esriMeters",
 "supportedImageFormatTypes": "PNG32,PNG24,PNG,JPG,DIB,TIFF,EMF,PS,PDF,GIF,SVG,SVGZ,BMP",
 "documentInfo": {
  "Title": "Historia_aineisto",
  "Author": "",
  "Comments": "",
  "Subject": "",
  "Category": "",
  "Version": "3.3.0",
  "AntialiasingMode": "Fast",
  "TextAntialiasingMode": "Force",
  "Keywords": "kirkkonummi,ilmakuva"
 },
 "supportsQueryDomains": true,
 "capabilities": "Map,Query,Data",
 "supportedQueryFormats": "JSON, geoJSON, PBF",
 "exportTilesAllowed": false,
 "referenceScale": 0.0,
 "datumTransformations": [
  {
   "geoTransforms": [
    {
     "wkid": 1149,
     "latestWkid": 1149,
     "transformForward": false,
     "name": "ETRS_1989_To_WGS_1984"
    }
   ]
  },
  {
   "geoTransforms": [
    {
     "wkid": 1149,
     "latestWkid": 1149,
     "transformForward": true,
     "name": "ETRS_1989_To_WGS_1984"
    }
   ]
  },
  {
   "geoTransforms": [
    {
     "wkid": 1149,
     "latestWkid": 1149,
     "transformForward": false,
     "name": "ETRS_1989_To_WGS_1984"
    }
   ]
  },
  {
   "geoTransforms": [
    {
     "wkid": 1149,
     "latestWkid": 1149,
     "transformForward": true,
     "name": "ETRS_1989_To_WGS_1984"
    }
   ]
  }
 ],
 "supportsDatumTransformation": true,
 "floorAwareMapProperties": {
  "defaultFloorFilterSettings": {
   "isEnabled": false
  }
 },
 "archivingInfo": {
  "supportsHistoricMoment": false
 },
 "supportsClipping": true,
 "supportsSpatialFilter": true,
 "supportsTimeRelation": true,
 "supportsQueryDataElements": true,
 "mapUnits": {
  "uwkid": 9001
 },
 "maxSelectionCount": 2000,
 "maxRecordCount": 2000,
 "maxImageHeight": 4096,
 "maxImageWidth": 4096,
 "supportedExtensions": "",
 "serviceItemId": "1a900f8bcafc4244b9bac933ee0ef3d5"
}
